BEGIN:VCALENDAR
VERSION:2.0
PRODID:-//Parkview Hills Club House - ECPv6.15.13//NONSGML v1.0//EN
CALSCALE:GREGORIAN
METHOD:PUBLISH
X-ORIGINAL-URL:https://parkviewhillsclubhouse.com
X-WR-CALDESC:Events for Parkview Hills Club House
REFRESH-INTERVAL;VALUE=DURATION:PT1H
X-Robots-Tag:noindex
X-PUBLISHED-TTL:PT1H
BEGIN:VTIMEZONE
TZID:UTC
BEGIN:STANDARD
TZOFFSETFROM:+0000
TZOFFSETTO:+0000
TZNAME:UTC
DTSTART:20180101T000000
END:STANDARD
END:VTIMEZONE
BEGIN:VEVENT
DTSTART;TZID=UTC:20190806T190000
DTEND;TZID=UTC:20190806T210000
DTSTAMP:20260423T173958
CREATED:20190720T013943Z
LAST-MODIFIED:20190730T195324Z
UID:1308-1565118000-1565125200@parkviewhillsclubhouse.com
SUMMARY:National Night Out
DESCRIPTION:Please join us for National Night Out\, an annual community-building campaign to promote police-community partnerships and neighborhood camaraderie. In partnership with the City of Kalamazoo Public Safety\, we’ll have popcorn…and\, barring an emergency\, a visit from Engine 7!! Bring the family\, and come meet and chat with our Parkview Hills community members.
URL:https://parkviewhillsclubhouse.com/event/national-night-out/
LOCATION:MI
CATEGORIES:PHCA
END:VEVENT
END:VCALENDAR