BEGIN:VCALENDAR
VERSION:2.0
PRODID:-//Parkview Hills Club House - ECPv6.15.13//NONSGML v1.0//EN
CALSCALE:GREGORIAN
METHOD:PUBLISH
X-ORIGINAL-URL:https://parkviewhillsclubhouse.com
X-WR-CALDESC:Events for Parkview Hills Club House
REFRESH-INTERVAL;VALUE=DURATION:PT1H
X-Robots-Tag:noindex
X-PUBLISHED-TTL:PT1H
BEGIN:VTIMEZONE
TZID:UTC
BEGIN:STANDARD
TZOFFSETFROM:+0000
TZOFFSETTO:+0000
TZNAME:UTC
DTSTART:20180101T000000
END:STANDARD
END:VTIMEZONE
BEGIN:VEVENT
DTSTART;TZID=UTC:20190809T090000
DTEND;TZID=UTC:20190810T170000
DTSTAMP:20260423T174004
CREATED:20190720T013242Z
LAST-MODIFIED:20190807T014718Z
UID:1302-1565341200-1565456400@parkviewhillsclubhouse.com
SUMMARY:Parkview Hills Community-wide Garage Sales
DESCRIPTION:This year’s garage sale will run on two days\, Friday the 9th and Saturday the 10th of August\, from 9AM to 5PM on both days. \nStop by the clubhouse for a list of addresses of participating garage sales!
URL:https://parkviewhillsclubhouse.com/event/parkview-hills-community-wide-garage-sales/
LOCATION:MI
CATEGORIES:PHCA
END:VEVENT
END:VCALENDAR