BEGIN:VCALENDAR
VERSION:2.0
PRODID:-//Parkview Hills Club House - ECPv6.15.13//NONSGML v1.0//EN
CALSCALE:GREGORIAN
METHOD:PUBLISH
X-ORIGINAL-URL:https://parkviewhillsclubhouse.com
X-WR-CALDESC:Events for Parkview Hills Club House
REFRESH-INTERVAL;VALUE=DURATION:PT1H
X-Robots-Tag:noindex
X-PUBLISHED-TTL:PT1H
BEGIN:VTIMEZONE
TZID:UTC
BEGIN:STANDARD
TZOFFSETFROM:+0000
TZOFFSETTO:+0000
TZNAME:UTC
DTSTART:20180101T000000
END:STANDARD
END:VTIMEZONE
BEGIN:VEVENT
DTSTART;TZID=UTC:20190917T180000
DTEND;TZID=UTC:20190917T193000
DTSTAMP:20260423T160249
CREATED:20190903T163356Z
LAST-MODIFIED:20190903T163356Z
UID:1493-1568743200-1568748600@parkviewhillsclubhouse.com
SUMMARY:Come Ask the Librarians!
DESCRIPTION:Did you know that the Parkview Hills Clubhouse has its own library? And it even has its own librarians: Anita Lawson\, Joan Harmens\, and Carol Quandt.\n\nNeed a new book to read?\nWant to try a new author?\nTired of reading the same type of book again and again?\n\n\nBesides the above queries\, and a million more that our librarians can assist with\, they can also help with your ebook reader. Bring it fully charged\, and they will help you load some new books that are cheap and/or free.\n\nLight refreshments will be provided. \nLocation: Willow Lake Clubhouse Library.
URL:https://parkviewhillsclubhouse.com/event/come-ask-the-librarians/
LOCATION:Parkview Hills Clubhouse\, 3707 Greenleaf Cir\, Kalamazoo\, MI\, 49008\, United States
CATEGORIES:PHCA
ATTACH;FMTTYPE=image/jpeg:https://parkviewhillsclubhouse.com/wp-content/uploads/2019/07/IMG_7370-e1564614260632.jpg
END:VEVENT
END:VCALENDAR