BEGIN:VCALENDAR
VERSION:2.0
PRODID:-//Parkview Hills Club House - ECPv6.15.13//NONSGML v1.0//EN
CALSCALE:GREGORIAN
METHOD:PUBLISH
X-WR-CALNAME:Parkview Hills Club House
X-ORIGINAL-URL:https://parkviewhillsclubhouse.com
X-WR-CALDESC:Events for Parkview Hills Club House
REFRESH-INTERVAL;VALUE=DURATION:PT1H
X-Robots-Tag:noindex
X-PUBLISHED-TTL:PT1H
BEGIN:VTIMEZONE
TZID:UTC
BEGIN:STANDARD
TZOFFSETFROM:+0000
TZOFFSETTO:+0000
TZNAME:UTC
DTSTART:20180101T000000
END:STANDARD
END:VTIMEZONE
BEGIN:VEVENT
DTSTART;TZID=UTC:20191010T100000
DTEND;TZID=UTC:20191010T180000
DTSTAMP:20260423T143741
CREATED:20190912T151402Z
LAST-MODIFIED:20190912T151402Z
UID:1520-1570701600-1570730400@parkviewhillsclubhouse.com
SUMMARY:Ascension Borgess Flu Clinic
DESCRIPTION:October 10\, 10am-noon\, 4-6pm \nAscension Borgess will be holding a flu shot clinic. Please see graphic for information.
URL:https://parkviewhillsclubhouse.com/event/ascension-borgess-flu-clinic/
LOCATION:Parkview Hills Clubhouse\, 3707 Greenleaf Cir\, Kalamazoo\, MI\, 49008\, United States
CATEGORIES:Public
END:VEVENT
END:VCALENDAR