BEGIN:VCALENDAR
VERSION:2.0
PRODID:-//Parkview Hills Club House - ECPv6.15.13//NONSGML v1.0//EN
CALSCALE:GREGORIAN
METHOD:PUBLISH
X-ORIGINAL-URL:https://parkviewhillsclubhouse.com
X-WR-CALDESC:Events for Parkview Hills Club House
REFRESH-INTERVAL;VALUE=DURATION:PT1H
X-Robots-Tag:noindex
X-PUBLISHED-TTL:PT1H
BEGIN:VTIMEZONE
TZID:UTC
BEGIN:STANDARD
TZOFFSETFROM:+0000
TZOFFSETTO:+0000
TZNAME:UTC
DTSTART:20180101T000000
END:STANDARD
END:VTIMEZONE
BEGIN:VEVENT
DTSTART;TZID=UTC:20191114T183000
DTEND;TZID=UTC:20191114T200000
DTSTAMP:20260423T131457
CREATED:20191022T155054Z
LAST-MODIFIED:20191022T155054Z
UID:1546-1573756200-1573761600@parkviewhillsclubhouse.com
SUMMARY:Art Minders Reception
DESCRIPTION:Please join us at the clubhouse for an Art Minders reception for our November artists. Come and enjoy how the lives of two artists\, a mother and a daughter\, took them down unique paths. Artist Anne Shaver joins with her daughter Amy Lohrmann in this unique show. \n 
URL:https://parkviewhillsclubhouse.com/event/art-minders-reception/
LOCATION:MI
CATEGORIES:ArtMinders
END:VEVENT
END:VCALENDAR