BEGIN:VCALENDAR
VERSION:2.0
PRODID:-//Parkview Hills Club House - ECPv6.15.13//NONSGML v1.0//EN
CALSCALE:GREGORIAN
METHOD:PUBLISH
X-ORIGINAL-URL:https://parkviewhillsclubhouse.com
X-WR-CALDESC:Events for Parkview Hills Club House
REFRESH-INTERVAL;VALUE=DURATION:PT1H
X-Robots-Tag:noindex
X-PUBLISHED-TTL:PT1H
BEGIN:VTIMEZONE
TZID:UTC
BEGIN:STANDARD
TZOFFSETFROM:+0000
TZOFFSETTO:+0000
TZNAME:UTC
DTSTART:20180101T000000
END:STANDARD
END:VTIMEZONE
BEGIN:VEVENT
DTSTART;TZID=UTC:20191125T160000
DTEND;TZID=UTC:20191125T180000
DTSTAMP:20260423T131551
CREATED:20191121T150917Z
LAST-MODIFIED:20191121T150917Z
UID:1585-1574697600-1574704800@parkviewhillsclubhouse.com
SUMMARY:Tree Trimming Event
DESCRIPTION:Please join us in decorating the interior of the clubhouse. There will be warm drinks and Christmas tunes playing. It will be fun for all ages.
URL:https://parkviewhillsclubhouse.com/event/tree-trimming-event/
LOCATION:Parkview Hills Clubhouse\, 3707 Greenleaf Cir\, Kalamazoo\, MI\, 49008\, United States
CATEGORIES:PHCA
END:VEVENT
END:VCALENDAR