BEGIN:VCALENDAR
VERSION:2.0
PRODID:-//Parkview Hills Club House - ECPv6.15.13//NONSGML v1.0//EN
CALSCALE:GREGORIAN
METHOD:PUBLISH
X-ORIGINAL-URL:https://parkviewhillsclubhouse.com
X-WR-CALDESC:Events for Parkview Hills Club House
REFRESH-INTERVAL;VALUE=DURATION:PT1H
X-Robots-Tag:noindex
X-PUBLISHED-TTL:PT1H
BEGIN:VTIMEZONE
TZID:UTC
BEGIN:STANDARD
TZOFFSETFROM:+0000
TZOFFSETTO:+0000
TZNAME:UTC
DTSTART:20180101T000000
END:STANDARD
END:VTIMEZONE
BEGIN:VEVENT
DTSTART;TZID=UTC:20230605T080000
DTEND;TZID=UTC:20230630T170000
DTSTAMP:20260420T190423
CREATED:20230502T173159Z
LAST-MODIFIED:20230622T182413Z
UID:2079-1685952000-1688144400@parkviewhillsclubhouse.com
SUMMARY:Photography of Michigan Show
DESCRIPTION:Would you like to be part of the Photography of Michigan Show at the Parkview Hills Clubhouse Library? Drop off entry and fill out entry form at the clubhouse front desk between June 5-9. Hours are 8am-noon and 1-5pm\, Monday-Friday. \n \nThe Photography of Michigan Show will display submitted photos in the Clubhouse from June 12-23. Please pick up your entry between June 26-28. Hours are 8am-noon and 1-5pm\, Monday-Friday. \n  \n\nAll ages welcome \nParkview Hills residents and family members may enter\nParkview Hills resident must fill out entry form for themselves and/or family member\n\n  \n\nPicture must be taken in Michigan; please note where it was taken.\nOne photo entry per person.\nPhoto must be 4” x 6” or larger.\nPhoto must be framed\, mounted\, or in a form that is easily displayed.\nIf you can’t get a print\, please send a digital copy to info@parkviewclubhouse.com  and we will print a 4” x 6” copy for you. You may choose a provided frame to display your picture in.  \nAll will win a prize! The Grand Prize will be drawn from all entries.
URL:https://parkviewhillsclubhouse.com/event/photography-of-michigan-show/
LOCATION:Parkview Hills Clubhouse\, 3707 Greenleaf Cir\, Kalamazoo\, MI\, 49008\, United States
CATEGORIES:Event,Library Art Events
ATTACH;FMTTYPE=image/jpeg:https://parkviewhillsclubhouse.com/wp-content/uploads/2023/05/IMG_7891_InPixio.jpg
END:VEVENT
BEGIN:VEVENT
DTSTART;TZID=UTC:20230520T120000
DTEND;TZID=UTC:20230520T150000
DTSTAMP:20260420T190423
CREATED:20230429T184637Z
LAST-MODIFIED:20230508T154500Z
UID:2070-1684584000-1684594800@parkviewhillsclubhouse.com
SUMMARY:Parkview Hills Clubhouse Library Puzzle Swap
DESCRIPTION:  \nThe PH Clubhouse Library will have a puzzle swap on Saturday\, May 20\, from noon to 3pm. All are welcome to attend. \nBring puzzles to swap for something new to you. Please don’t bring any puzzles with missing pieces. Sizes from 24 pieces to 3000 pieces are needed. \nIf you can’t attend the swap but have puzzles you would like to get rid of\, please drop off at the clubhouse Monday\, May 15 through Friday\, May 19. \nWe will have some new puzzles for the kids to have and even those without puzzles to swap may take one to do. \nPlease bring friends and relatives along with your puzzles to swap. You do have to take your friends and relatives back with you—no swapping them! \nThere will be a raffle in the library to win sorting trays\, new puzzles\, and puzzle spatulas! You only have to guess how many puzzle pieces are in the candy jar! Everyone will leave with a prize when you deposit your raffle ticket. Leave your first name\, contact number\, and your guess on your raffle ticket and you will be notified on Sunday\, May 21\, if you win! Prizes will be picked up at the clubhouse after that. \nDid you know? The first jigsaw puzzle was created around 1760 by a London cartographer and engraver named John Spilsbury! \n  \nThis is part of the 2023 Parkview Hills Clubhouse Library Art Events. Stay tuned for more!
URL:https://parkviewhillsclubhouse.com/event/puzzle-swap/
LOCATION:Parkview Hills Clubhouse\, 3707 Greenleaf Cir\, Kalamazoo\, MI\, 49008\, United States
CATEGORIES:Event,Library Art Events
ATTACH;FMTTYPE=image/jpeg:https://parkviewhillsclubhouse.com/wp-content/uploads/2023/04/Depositphotos_271598334_XL_InPixio.jpg
END:VEVENT
BEGIN:VEVENT
DTSTART;TZID=UTC:20230519T180000
DTEND;TZID=UTC:20230519T200000
DTSTAMP:20260420T190423
CREATED:20230512T164953Z
LAST-MODIFIED:20230512T164953Z
UID:2095-1684519200-1684526400@parkviewhillsclubhouse.com
SUMMARY:National Pizza Party Day Celebration
DESCRIPTION:Celebrate National Pizza Party Day on May 19 at 6pm in the clubhouse dining room. \nBring your own snacks and drinks. \nJoin us for a night of pizza and bingo. \nThanks to the Social Committee for organizing this! \n 
URL:https://parkviewhillsclubhouse.com/event/national-pizza-party-day-celebration/
LOCATION:Parkview Hills Clubhouse\, 3707 Greenleaf Cir\, Kalamazoo\, MI\, 49008\, United States
CATEGORIES:Event,Social Committee
ATTACH;FMTTYPE=image/png:https://parkviewhillsclubhouse.com/wp-content/uploads/2023/05/National-Pizza-Party-Day-1.png
END:VEVENT
BEGIN:VEVENT
DTSTART;TZID=UTC:20230421T180000
DTEND;TZID=UTC:20230421T200000
DTSTAMP:20260420T190423
CREATED:20230413T132730Z
LAST-MODIFIED:20230413T132730Z
UID:2064-1682100000-1682107200@parkviewhillsclubhouse.com
SUMMARY:Parkview Hills Social Club Open Mic Night
DESCRIPTION:Join the Parkview Hills Social Club for Open Mic Night! April 21\, 6-8pm at the clubhouse. BYOB & Snacks. \nCome together with our neighbors for a night of creativity\, music\, poetry and more! \nWe will have a screen for karaoke!\nGot something you’ve been working on and want to share?\nBring an instrument and play us a song!\nRecite a poem or two!\nImagine this night as a Talent Show/Show & Tell/Poetry Slam/Comedy/Sing Song Soirée!\nGet creative and enjoy an informal night of neighborhood talents.\nCan’t wait to see you there! \nLearn more on Facebook at https://m.facebook.com/groups/phsocialclub/
URL:https://parkviewhillsclubhouse.com/event/parkview-hills-social-club-open-mic-night/
LOCATION:Parkview Hills Clubhouse\, 3707 Greenleaf Cir\, Kalamazoo\, MI\, 49008\, United States
CATEGORIES:Event,Social Club
END:VEVENT
BEGIN:VEVENT
DTSTART;TZID=UTC:20230217T180000
DTEND;TZID=UTC:20230217T200000
DTSTAMP:20260420T190423
CREATED:20230131T201457Z
LAST-MODIFIED:20230131T201457Z
UID:2033-1676656800-1676664000@parkviewhillsclubhouse.com
SUMMARY:Mardi Gras Party
DESCRIPTION:Join the Parkview Hills Social Club on February 17 for Mardi Party!\n6-8pm\nBYOB & Snacks\nNo need to RSVP\nCome one\, come all!\nSet up begins at 5pm; feel free to come early or stay after to help out. \nMardi Gras attire encouraged! We’ll give a prize to the best dressed guest! \n50/50 Raffle \nDoor prizes (while they last) \nEmail us at parkviewsocials [at] outlook.com if you have any questions! \n 
URL:https://parkviewhillsclubhouse.com/event/mardi-gras-party/
LOCATION:Parkview Hills Clubhouse\, 3707 Greenleaf Cir\, Kalamazoo\, MI\, 49008\, United States
CATEGORIES:Event,Social Club
END:VEVENT
BEGIN:VEVENT
DTSTART;TZID=UTC:20230120T180000
DTEND;TZID=UTC:20230120T200000
DTSTAMP:20260420T190423
CREATED:20230113T212215Z
LAST-MODIFIED:20230113T212215Z
UID:2026-1674237600-1674244800@parkviewhillsclubhouse.com
SUMMARY:Social Club's Chili Cook Off
DESCRIPTION:The Parkview Hills social club will be hosting the first annual chili cook off. \n \nThe Social Club has created a private Facebook group for Parkview Hills residents only. Scan the QR Code and join the group. If you are unable to scan a QR code or are not on Facebook\, please email parkviewsocials [at] outlook.com
URL:https://parkviewhillsclubhouse.com/event/social-clubs-chili-cook-off/
LOCATION:Parkview Hills Clubhouse\, 3707 Greenleaf Cir\, Kalamazoo\, MI\, 49008\, United States
CATEGORIES:Social Club
END:VEVENT
BEGIN:VEVENT
DTSTART;TZID=UTC:20221209T170000
DTEND;TZID=UTC:20221209T200000
DTSTAMP:20260420T190423
CREATED:20221021T152736Z
LAST-MODIFIED:20221128T192533Z
UID:1979-1670605200-1670616000@parkviewhillsclubhouse.com
SUMMARY:The Parkview Hills Willow Lake clubhouse holiday social 2022
DESCRIPTION:Please join us for the 2022 Parkview Hills Willow Lake clubhouse holiday social. \nAppetizers from Martell’s will be provided. BYOB! \nCarl Ratner will be entertaining us with his wonderful voice. Join us to celebrate the holiday season. \n \nIf you would like to volunteer please contact us in person\, by phone 269-372-4444\, or by email at info@parkviewhillsclubhouse.com \n 
URL:https://parkviewhillsclubhouse.com/event/the-parkview-hills-willow-lake-clubhouse-christmas-social-2022/
LOCATION:Parkview Hills Clubhouse\, 3707 Greenleaf Cir\, Kalamazoo\, MI\, 49008\, United States
CATEGORIES:Event
ATTACH;FMTTYPE=image/jpeg:https://parkviewhillsclubhouse.com/wp-content/uploads/2022/10/background-1742039_1920.jpg
END:VEVENT
BEGIN:VEVENT
DTSTART;TZID=UTC:20221014T170000
DTEND;TZID=UTC:20221014T200000
DTSTAMP:20260420T190423
CREATED:20221013T200125Z
LAST-MODIFIED:20221013T200303Z
UID:1970-1665766800-1665777600@parkviewhillsclubhouse.com
SUMMARY:Artist Reception: Parkview Hills Second Annual Kalamazoo Institute of Arts Kirk Newman Art School with Students of Kenneth Freed\, MFA
DESCRIPTION:Artist Reception Friday\, October 14 from 5-8pm at the Parkview Hills clubhouse \nParkview Hills Second Annual Kalamazoo Institute of Arts Kirk Newman Art School with Students of Kenneth Freed\, MFA \n \nStudent artists\, currently studying under the tutelage of Kenneth Freed\, MFA\, at the Kalamazoo Institute of Arts\, are holding their second art exhibit from October 1 to October 31\, 2022 at Parkview Hills Clubhouse. \n \nEach of the artists have on display two to three pieces of their work for the entire month. Most of the students have been painting with Freed for many years. Among those are a few who also study privately with Freed. A copy of the Ken Freed’s and student’s biographies is available at the clubhouse. \n \nPlease join the artists at a reception on Friday\, October 14 from 5-8pm at the Parkview Hills clubhouse. \n \nSeveral paintings are available for purchase. Each artist is responsible for their own sale agreement. The artist contact list is available through the front desk. You may call 269-372- 4444 or email info@parkviewhillsclubhouse.com for more information. Clubhouse hours are: M-F 8am-12pm and 1-5pm. \n \n  \n  \nAll photos courtesy Nancy\, Parkview Hills clubhouse staff. Thank you!
URL:https://parkviewhillsclubhouse.com/event/artist-reception-parkview-hills-second-annual-kalamazoo-institute-of-arts-kirk-newman-art-school-with-students-of-kenneth-freed-mfa/
LOCATION:MI
CATEGORIES:Event
ATTACH;FMTTYPE=image/jpeg:https://parkviewhillsclubhouse.com/wp-content/uploads/2022/10/IMG-8202.jpg
END:VEVENT
BEGIN:VEVENT
DTSTART;TZID=UTC:20220925T140000
DTEND;TZID=UTC:20220925T160000
DTSTAMP:20260420T190423
CREATED:20220902T172635Z
LAST-MODIFIED:20220907T221654Z
UID:1828-1664114400-1664121600@parkviewhillsclubhouse.com
SUMMARY:Parkview Hills Community Block Party
DESCRIPTION:Parkview Hills Community Block Party \nOur Neighborhood Association of Parkview Hills (NAPH) and the City of Kalamazoo will be hosting a block party on Sunday\, September 25th from 2-4pm. \nThe Community Block Party will be held in the Clubhouse parking lot. \nLearn more and RSVP here. \n 
URL:https://parkviewhillsclubhouse.com/event/parkview-hills-community-block-party/
LOCATION:Parkview Hills Clubhouse\, 3707 Greenleaf Cir\, Kalamazoo\, MI\, 49008\, United States
CATEGORIES:Event,NAPH,NASC,PHCA
ATTACH;FMTTYPE=image/jpeg:https://parkviewhillsclubhouse.com/wp-content/uploads/2019/07/Engine_7_50.jpg
END:VEVENT
BEGIN:VEVENT
DTSTART;TZID=UTC:20200310T070000
DTEND;TZID=UTC:20200310T200000
DTSTAMP:20260420T190423
CREATED:20200225T163739Z
LAST-MODIFIED:20200225T163739Z
UID:1641-1583823600-1583870400@parkviewhillsclubhouse.com
SUMMARY:March 2020 Presidential Primary Election
DESCRIPTION:The clubhouse will be the polling location for the 2020 Presidential primary election\, voting precinct 26. The polls will be open from 7am-8pm.
URL:https://parkviewhillsclubhouse.com/event/march-2020-presidential-primary-election/
LOCATION:Parkview Hills Clubhouse\, 3707 Greenleaf Cir\, Kalamazoo\, MI\, 49008\, United States
CATEGORIES:Event
END:VEVENT
BEGIN:VEVENT
DTSTART;TZID=UTC:20200303T180000
DTEND;TZID=UTC:20200303T210000
DTSTAMP:20260420T190423
CREATED:20200225T162741Z
LAST-MODIFIED:20200225T162804Z
UID:1628-1583258400-1583269200@parkviewhillsclubhouse.com
SUMMARY:Sip and Social March 3
DESCRIPTION:Come mingle and network with your neighbors in a relaxed open house environment! Snacks\, coffee\, soft beverages\, and wine provided. Bring a beverage or a snack if you’d like. Children welcome.
URL:https://parkviewhillsclubhouse.com/event/sip-and-social/
LOCATION:Parkview Hills Clubhouse\, 3707 Greenleaf Cir\, Kalamazoo\, MI\, 49008\, United States
CATEGORIES:Event
END:VEVENT
BEGIN:VEVENT
DTSTART;TZID=UTC:20200114T140000
DTEND;TZID=UTC:20200114T153000
DTSTAMP:20260420T190423
CREATED:20191201T185822Z
LAST-MODIFIED:20191201T185850Z
UID:1595-1579010400-1579015800@parkviewhillsclubhouse.com
SUMMARY:Cozy Mystery Book Club~January 2020
DESCRIPTION:  \nFrom our PH librarians:\nOur first book will be any book by Laura Childs you would like to read. Read the next one in your favorite series\, or try one from one of her other series. Have fun and explore this author.
URL:https://parkviewhillsclubhouse.com/event/cozy-mystery-book-club-january-2020/
LOCATION:Parkview Hills Clubhouse\, 3707 Greenleaf Cir\, Kalamazoo\, MI\, 49008\, United States
CATEGORIES:Event
END:VEVENT
BEGIN:VEVENT
DTSTART;TZID=UTC:20191124T160000
DTEND;TZID=UTC:20191124T180000
DTSTAMP:20260420T190423
CREATED:20191022T154327Z
LAST-MODIFIED:20191022T154327Z
UID:1544-1574611200-1574618400@parkviewhillsclubhouse.com
SUMMARY:Thanksgiving Potluck
DESCRIPTION:Please join us for our annual Thanksgiving Potluck! \nBy November 17th\, please RSVP to the clubhouse with the number of attendees in your family\, and the dish you will be bringing.
URL:https://parkviewhillsclubhouse.com/event/thanksgiving-potluck/
LOCATION:Parkview Hills Clubhouse\, 3707 Greenleaf Cir\, Kalamazoo\, MI\, 49008\, United States
CATEGORIES:Event
END:VEVENT
BEGIN:VEVENT
DTSTART;TZID=UTC:20191025T180000
DTEND;TZID=UTC:20191025T200000
DTSTAMP:20260420T190423
CREATED:20190919T152454Z
LAST-MODIFIED:20190919T152454Z
UID:1525-1572026400-1572033600@parkviewhillsclubhouse.com
SUMMARY:Trunk or Treat
DESCRIPTION:Bring your children for some fun\, safe\, and candy-filled Trunk-or-Treating. Dress up in your spookiest costumes and join us for a night of Halloween fun! \nWe’re looking for volunteers to decorate their cars and hand out candy. If you would like to participate in this year’s Trunk-or-Treat\, please contact the Willow Creek Apartments office at 269-375-4809 \nHosted by Willow Creek Apartments—thank you! \nLocation: Parkview Hills Willow Lake Clubhouse parking lot
URL:https://parkviewhillsclubhouse.com/event/trunk-or-treat/
LOCATION:Parkview Hills Clubhouse\, 3707 Greenleaf Cir\, Kalamazoo\, MI\, 49008\, United States
CATEGORIES:Event
END:VEVENT
END:VCALENDAR