BEGIN:VCALENDAR
VERSION:2.0
PRODID:-//Parkview Hills Club House - ECPv6.15.13//NONSGML v1.0//EN
CALSCALE:GREGORIAN
METHOD:PUBLISH
X-WR-CALNAME:Parkview Hills Club House
X-ORIGINAL-URL:https://parkviewhillsclubhouse.com
X-WR-CALDESC:Events for Parkview Hills Club House
REFRESH-INTERVAL;VALUE=DURATION:PT1H
X-Robots-Tag:noindex
X-PUBLISHED-TTL:PT1H
BEGIN:VTIMEZONE
TZID:UTC
BEGIN:STANDARD
TZOFFSETFROM:+0000
TZOFFSETTO:+0000
TZNAME:UTC
DTSTART:20240101T000000
END:STANDARD
END:VTIMEZONE
BEGIN:VEVENT
DTSTART;TZID=UTC:20251205T180000
DTEND;TZID=UTC:20251205T200000
DTSTAMP:20260426T033035
CREATED:20251114T210900Z
LAST-MODIFIED:20251201T221359Z
UID:2560-1764957600-1764964800@parkviewhillsclubhouse.com
SUMMARY:PHCA Holiday Social 2025
DESCRIPTION:You are invited to join us in celebration of the holidays! \nPHCA Holiday Social 12/5/2025 6-8pm clubhouse upper level\nCaroling at 6:30pm in the great room – here’s the QR code and the link to the google drive for the lyrics: \n \n  \nWe will be serving refreshments in the dining room. Please bring a dish to share. \nPlease RSVP by 12/2/25 for the food count by calling 269-372-4444\, emailing us at info@parkviewhillsclubhouse.com\, or by stopping by in person to RSVP. \n 
URL:https://parkviewhillsclubhouse.com/event/phca-holiday-social-2025/
LOCATION:Parkview Hills Clubhouse\, 3707 Greenleaf Cir\, Kalamazoo\, MI\, 49008\, United States
CATEGORIES:Event,Social Club
ATTACH;FMTTYPE=image/png:https://parkviewhillsclubhouse.com/wp-content/uploads/2025/11/2024-2025-PH-holiday-social-1_InPixio.avif
END:VEVENT
END:VCALENDAR