BEGIN:VCALENDAR
VERSION:2.0
PRODID:-//Parkview Hills Club House - ECPv6.15.13//NONSGML v1.0//EN
CALSCALE:GREGORIAN
METHOD:PUBLISH
X-ORIGINAL-URL:https://parkviewhillsclubhouse.com
X-WR-CALDESC:Events for Parkview Hills Club House
REFRESH-INTERVAL;VALUE=DURATION:PT1H
X-Robots-Tag:noindex
X-PUBLISHED-TTL:PT1H
BEGIN:VTIMEZONE
TZID:UTC
BEGIN:STANDARD
TZOFFSETFROM:+0000
TZOFFSETTO:+0000
TZNAME:UTC
DTSTART:20180101T000000
END:STANDARD
END:VTIMEZONE
BEGIN:VEVENT
DTSTART;TZID=UTC:20190709T180000
DTEND;TZID=UTC:20190709T190000
DTSTAMP:20260423T174059
CREATED:20190603T202516Z
LAST-MODIFIED:20190604T182115Z
UID:1054-1562695200-1562698800@parkviewhillsclubhouse.com
SUMMARY:July 2019 PHCA Board of Directors Meeting
DESCRIPTION:The PHCA Board of Directors meets the second Tuesday of odd-numbered months at 6:00 p.m. \nYou are cordially invited to attend the PHCA Board meetings.
URL:https://parkviewhillsclubhouse.com/event/phca-board-of-directors-meetings/
LOCATION:Parkview Hills Clubhouse\, 3707 Greenleaf Cir\, Kalamazoo\, MI\, 49008\, United States
CATEGORIES:PHCA
ATTACH;FMTTYPE=image/jpeg:https://parkviewhillsclubhouse.com/wp-content/uploads/2015/02/clubhouse-fullfixed.jpg
END:VEVENT
END:VCALENDAR