BEGIN:VCALENDAR
VERSION:2.0
PRODID:-//Parkview Hills Club House - ECPv6.15.13//NONSGML v1.0//EN
CALSCALE:GREGORIAN
METHOD:PUBLISH
X-WR-CALNAME:Parkview Hills Club House
X-ORIGINAL-URL:https://parkviewhillsclubhouse.com
X-WR-CALDESC:Events for Parkview Hills Club House
REFRESH-INTERVAL;VALUE=DURATION:PT1H
X-Robots-Tag:noindex
X-PUBLISHED-TTL:PT1H
BEGIN:VTIMEZONE
TZID:UTC
BEGIN:STANDARD
TZOFFSETFROM:+0000
TZOFFSETTO:+0000
TZNAME:UTC
DTSTART:20190101T000000
END:STANDARD
END:VTIMEZONE
BEGIN:VEVENT
DTSTART;VALUE=DATE:20200101
DTEND;VALUE=DATE:20200102
DTSTAMP:20260423T083953
CREATED:20191112T170240Z
LAST-MODIFIED:20191112T170240Z
UID:1578-1577836800-1577923199@parkviewhillsclubhouse.com
SUMMARY:Clubhouse Closed
DESCRIPTION:The Clubhouse will be closed for the holiday.
URL:https://parkviewhillsclubhouse.com/event/clubhouse-closed-4/
LOCATION:Parkview Hills Clubhouse\, 3707 Greenleaf Cir\, Kalamazoo\, MI\, 49008\, United States
CATEGORIES:Public
END:VEVENT
BEGIN:VEVENT
DTSTART;TZID=UTC:20200109T190000
DTEND;TZID=UTC:20200109T200000
DTSTAMP:20260423T083953
CREATED:20191110T221006Z
LAST-MODIFIED:20191112T162947Z
UID:1564-1578596400-1578600000@parkviewhillsclubhouse.com
SUMMARY:NAPH January meeting
DESCRIPTION:Please join the Neighborhood Association of Parkview Hills for their January meeting. \nTopic: Metro Transit Services available to Parkview Hills residents.
URL:https://parkviewhillsclubhouse.com/event/naph-january-meeting/
LOCATION:Parkview Hills Clubhouse\, 3707 Greenleaf Cir\, Kalamazoo\, MI\, 49008\, United States
CATEGORIES:NAPH
END:VEVENT
BEGIN:VEVENT
DTSTART;TZID=UTC:20200114T140000
DTEND;TZID=UTC:20200114T153000
DTSTAMP:20260423T083953
CREATED:20191201T185822Z
LAST-MODIFIED:20191201T185850Z
UID:1595-1579010400-1579015800@parkviewhillsclubhouse.com
SUMMARY:Cozy Mystery Book Club~January 2020
DESCRIPTION:  \nFrom our PH librarians:\nOur first book will be any book by Laura Childs you would like to read. Read the next one in your favorite series\, or try one from one of her other series. Have fun and explore this author.
URL:https://parkviewhillsclubhouse.com/event/cozy-mystery-book-club-january-2020/
LOCATION:Parkview Hills Clubhouse\, 3707 Greenleaf Cir\, Kalamazoo\, MI\, 49008\, United States
CATEGORIES:Event
END:VEVENT
END:VCALENDAR