BEGIN:VCALENDAR
VERSION:2.0
PRODID:-//Parkview Hills Club House - ECPv6.15.13//NONSGML v1.0//EN
CALSCALE:GREGORIAN
METHOD:PUBLISH
X-WR-CALNAME:Parkview Hills Club House
X-ORIGINAL-URL:https://parkviewhillsclubhouse.com
X-WR-CALDESC:Events for Parkview Hills Club House
REFRESH-INTERVAL;VALUE=DURATION:PT1H
X-Robots-Tag:noindex
X-PUBLISHED-TTL:PT1H
BEGIN:VTIMEZONE
TZID:UTC
BEGIN:STANDARD
TZOFFSETFROM:+0000
TZOFFSETTO:+0000
TZNAME:UTC
DTSTART:20190101T000000
END:STANDARD
END:VTIMEZONE
BEGIN:VEVENT
DTSTART;TZID=UTC:20200303T180000
DTEND;TZID=UTC:20200303T210000
DTSTAMP:20260421T055710
CREATED:20200225T162741Z
LAST-MODIFIED:20200225T162804Z
UID:1628-1583258400-1583269200@parkviewhillsclubhouse.com
SUMMARY:Sip and Social March 3
DESCRIPTION:Come mingle and network with your neighbors in a relaxed open house environment! Snacks\, coffee\, soft beverages\, and wine provided. Bring a beverage or a snack if you’d like. Children welcome.
URL:https://parkviewhillsclubhouse.com/event/sip-and-social/
LOCATION:Parkview Hills Clubhouse\, 3707 Greenleaf Cir\, Kalamazoo\, MI\, 49008\, United States
CATEGORIES:Event
END:VEVENT
BEGIN:VEVENT
DTSTART;TZID=UTC:20200305T190000
DTEND;TZID=UTC:20200305T210000
DTSTAMP:20260421T055710
CREATED:20200225T163112Z
LAST-MODIFIED:20200226T204835Z
UID:1637-1583434800-1583442000@parkviewhillsclubhouse.com
SUMMARY:NAPH Meeting March 2020
DESCRIPTION:Join the Neighborhood Association of Parkview Hills (NAPH) for their monthly meeting. \nThis month\, a representative from the Kalamazoo Public Library will be educating us on the many services they can provide. The representative expects to cover a general overview of the library\, including locations\, collections\, and services. For Readers Services\, they will share information on the current season of Reading Together and talk about their Book Club in a Bag collection.  For Digital Resources\, they can provide an overview of e-books\, e-audiobooks\, e-magazines\, and databases. And finally\, they will also offer library card sign-up and renewal at the end of our presentation. \n  \nThe meeting will be held in the Willow Lake Clubhouse Dining Room.
URL:https://parkviewhillsclubhouse.com/event/naph-meeting-march-2020/
LOCATION:Parkview Hills Clubhouse\, 3707 Greenleaf Cir\, Kalamazoo\, MI\, 49008\, United States
CATEGORIES:NAPH
END:VEVENT
BEGIN:VEVENT
DTSTART;TZID=UTC:20200310T070000
DTEND;TZID=UTC:20200310T200000
DTSTAMP:20260421T055710
CREATED:20200225T163739Z
LAST-MODIFIED:20200225T163739Z
UID:1641-1583823600-1583870400@parkviewhillsclubhouse.com
SUMMARY:March 2020 Presidential Primary Election
DESCRIPTION:The clubhouse will be the polling location for the 2020 Presidential primary election\, voting precinct 26. The polls will be open from 7am-8pm.
URL:https://parkviewhillsclubhouse.com/event/march-2020-presidential-primary-election/
LOCATION:Parkview Hills Clubhouse\, 3707 Greenleaf Cir\, Kalamazoo\, MI\, 49008\, United States
CATEGORIES:Event
END:VEVENT
END:VCALENDAR